BEGIN:VCALENDAR
VERSION:2.0
PRODID:-//hacksw/handcal//NONSGML v1.0//EN
BEGIN:VEVENT
DTSTART:20260310T123000
DTEND:20260310T133000
LOCATION:https://app.livestorm.co/ifgexecutive/ifg-live-andrea-dih-kahn-resilience-et-sobriete-manageriale-les-nouveaux-defis-des-dirigeants?utm_source=hp-site
ORGANIZER;CN=Angélique Jomier:MAILTO:ajomier@groupe-ifg.fr
SUMMARY:IFG Live :  "Résilience et sobriété managériale : les nouveaux défis des dirigeants" par Andréa Dih Khan
DESCRIPTION:\n"Résilience et sobriété managériale : les nouveaux défis des dirigeants"\nAnimé par Andréa Dih Khan\n📅 mardi 10 mars de 12h30 à 13h30\nLe monde change, les crises se succèdent et les méthodes de...
URL:https://alumni.ifgexecutive.inseec.com/fr/event/ifg-live-resilience-et-sobriete-manageriale-les-nouveaux-defis-des-dirigeants-par-andrea-dih-khan/2026/03/10/142
BEGIN:VALARM
TRIGGER:-P0DT1H0M0S
ACTION:DISPLAY
END:VALARM
END:VEVENT
END:VCALENDAR