BEGIN:VCALENDAR
VERSION:2.0
PRODID:-//hacksw/handcal//NONSGML v1.0//EN
BEGIN:VEVENT
DTSTART:20260122T123000
DTEND:20260122T133000
LOCATION:https://app.livestorm.co/ifgexecutive/ifg-live-vanessa-jaume-omnicanalite-promesse-client-ou-piege-operationnel-pour-la-supply-chain?utm_source=Livestorm+company+page
ORGANIZER;CN=Angélique Jomier:MAILTO:ajomier@groupe-ifg.fr
SUMMARY:IFG Live : "Omnicanalité : promesse client ou piège opérationnel pour la supply chain ?"
DESCRIPTION:"Omnicanalité : promesse client ou piège opérationnel pour la supply chain ?"\nAnimé par Vanessa Jaume\n📅 jeudi 22 janvier de 12h30 à 13h30\nEn 2025, l’omnicanalité n’est plus une option : c’est une...
URL:https://alumni.ifgexecutive.inseec.com/fr/event/ifg-live-omnicanalite-promesse-client-ou-piege-operationnel-pour-la-supply-chain/2026/01/22/140
BEGIN:VALARM
TRIGGER:-P0DT1H0M0S
ACTION:DISPLAY
END:VALARM
END:VEVENT
END:VCALENDAR