BEGIN:VCALENDAR
VERSION:2.0
PRODID:-//hacksw/handcal//NONSGML v1.0//EN
BEGIN:VEVENT
DTSTART:20260122T180000
DTEND:20260122T200000
LOCATION:Campus IFG Exec. Ed. Coeur Défense \n82, Esplanade du Général de Gaulle \n92400 COURBEVOIE
ORGANIZER;CN=Mélanie Cholet:MAILTO:mcholet@groupe-ifg.fr
SUMMARY:Conférence : "Comment réussir l’adoption de l’IA par métier ?"
DESCRIPTION:Bonjour, Nous avons le plaisir de vous inviter à la conférence "Comment réussir l’adoption de l’IA par métier ? De la sensibilisation des équipes à une gouvernance des données maîtrisée" animée par...
URL:https://alumni.ifgexecutive.inseec.com/fr/event/conference-comment-reussir-l-adoption-de-l-ia-par-metier/2026/01/22/139
BEGIN:VALARM
TRIGGER:-P0DT1H0M0S
ACTION:DISPLAY
END:VALARM
END:VEVENT
END:VCALENDAR