BEGIN:VCALENDAR
VERSION:2.0
PRODID:-//hacksw/handcal//NONSGML v1.0//EN
BEGIN:VEVENT
DTSTART:20250626T160000
DTEND:20250626T210000
LOCATION:Campus OMNES Abidjan
ORGANIZER;CN=Freedom Amavi:MAILTO:amamaviayikoue@groupe-ifg.fr
SUMMARY:Conférence Alumni IFG_ESG & Performance des États et Entreprises
DESCRIPTION:\nCher(e) Cadre, Dirigeant(e), Alumni,Nous avons le plaisir de vous inviter à une conférence exceptionnelle organisée par IFG Executive Education en partenariat avec DBS Training, le jeudi 26 juin...
URL:https://alumni.ifgexecutive.inseec.com/fr/event/conference-alumni-ifg-esg-performance-des-etats-et-entreprises/2025/06/26/138
BEGIN:VALARM
TRIGGER:-P0DT1H0M0S
ACTION:DISPLAY
END:VALARM
END:VEVENT
END:VCALENDAR