BEGIN:VCALENDAR
VERSION:2.0
PRODID:-//hacksw/handcal//NONSGML v1.0//EN
BEGIN:VEVENT
DTSTART:20250516T170000
DTEND:20250516T200000
LOCATION:Campus OMNES Abidjan \nAvenue Joachim BONI, Riviera Palmeraie - Rond Point ADO, Cocody
ORGANIZER;CN=Freedom Amavi:MAILTO:amamaviayikoue@groupe-ifg.fr
SUMMARY:Conférence sur "Entrepreneuriat et investissement : pilier de la transformation économique en Afrique"
DESCRIPTION:\nIFG AFRIQUE et l'INSEEC AFRICA BUSINESS CLUB (IABC), organisent une conférence exceptionnelle, où visionnaires, bâtisseurs et porteurs de changement se réuniront pour repenser l’avenir économique du...
URL:https://alumni.ifgexecutive.inseec.com/fr/event/conference-sur-entrepreneuriat-et-investissement-pilier-de-la-transformation-economique-en-afrique/2025/05/16/136
BEGIN:VALARM
TRIGGER:-P0DT1H0M0S
ACTION:DISPLAY
END:VALARM
END:VEVENT
END:VCALENDAR