BEGIN:VCALENDAR
VERSION:2.0
PRODID:-//hacksw/handcal//NONSGML v1.0//EN
BEGIN:VEVENT
DTSTART:20250602T090000
DTEND:20250603T140000
LOCATION:Campus Coeur Défense \n82, Esplanade du Général de Gaulle \n92400 COURBEVOIE
ORGANIZER;CN=Mélanie Cholet:MAILTO:mcholet@groupe-ifg.fr
SUMMARY:Formation : CSRD et ESRS : Maîtriser le reporting extra-financier pour une performance durable
DESCRIPTION:Le reporting extra-financier est devenu une dimension majeure de l’information des entreprises. Loin d’être une obligation complexe et contraignante, il doit être perçu et compris comme la...
URL:https://alumni.ifgexecutive.inseec.com/fr/event/formation-csrd-et-esrs-maitriser-le-reporting-extra-financier-pour-une-performance-durable/2025/06/02/121
BEGIN:VALARM
TRIGGER:-P0DT1H0M0S
ACTION:DISPLAY
END:VALARM
END:VEVENT
END:VCALENDAR